Package: HelloRanges Version: 1.28.0 Command: /Library/Frameworks/R.framework/Resources/bin/R CMD build --keep-empty-dirs --no-resave-data HelloRanges StartedAt: 2024-04-16 19:52:00 -0400 (Tue, 16 Apr 2024) EndedAt: 2024-04-16 19:57:12 -0400 (Tue, 16 Apr 2024) EllapsedTime: 311.3 seconds RetCode: 0 Status: OK PackageFile: HelloRanges_1.28.0.tar.gz PackageFileSize: 951.3 KiB