Package: HarmonizR Version: 1.0.0 Command: /Library/Frameworks/R.framework/Resources/bin/R CMD build --keep-empty-dirs --no-resave-data HarmonizR StartedAt: 2024-04-16 19:49:07 -0400 (Tue, 16 Apr 2024) EndedAt: 2024-04-16 19:49:26 -0400 (Tue, 16 Apr 2024) EllapsedTime: 19.4 seconds RetCode: 0 Status: OK PackageFile: HarmonizR_1.0.0.tar.gz PackageFileSize: 50.53 KiB