Package: HarmonizR Version: 1.0.0 Command: rm -rf HarmonizR.buildbin-libdir && mkdir HarmonizR.buildbin-libdir && /Users/biocbuild/BBS/utils/build-universal.sh HarmonizR_1.0.0.tar.gz /Library/Frameworks/R.framework/Resources/bin/R HarmonizR.buildbin-libdir StartedAt: 2024-04-18 09:38:30 -0400 (Thu, 18 Apr 2024) EndedAt: 2024-04-18 09:38:35 -0400 (Thu, 18 Apr 2024) EllapsedTime: 4.5 seconds RetCode: 0 Status: OK PackageFile: HarmonizR_1.0.0.tgz PackageFileSize: 91.3 KiB