Package: HTqPCR Version: 1.56.0 Command: /Library/Frameworks/R.framework/Resources/bin/R CMD build --keep-empty-dirs --no-resave-data HTqPCR StartedAt: 2024-04-16 20:05:04 -0400 (Tue, 16 Apr 2024) EndedAt: 2024-04-16 20:05:39 -0400 (Tue, 16 Apr 2024) EllapsedTime: 34.9 seconds RetCode: 0 Status: OK PackageFile: HTqPCR_1.56.0.tar.gz PackageFileSize: 2.581 MiB