Package: HTqPCR Version: 1.56.0 Command: rm -rf HTqPCR.buildbin-libdir && mkdir HTqPCR.buildbin-libdir && /Users/biocbuild/BBS/utils/build-universal.sh HTqPCR_1.56.0.tar.gz /Library/Frameworks/R.framework/Resources/bin/R HTqPCR.buildbin-libdir StartedAt: 2024-04-18 09:42:08 -0400 (Thu, 18 Apr 2024) EndedAt: 2024-04-18 09:42:19 -0400 (Thu, 18 Apr 2024) EllapsedTime: 11.5 seconds RetCode: 0 Status: OK PackageFile: HTqPCR_1.56.0.tgz PackageFileSize: 2.457 MiB