Package: HPiP Version: 1.8.0 Command: /Library/Frameworks/R.framework/Resources/bin/R CMD build --keep-empty-dirs --no-resave-data HPiP StartedAt: 2024-04-16 20:05:00 -0400 (Tue, 16 Apr 2024) EndedAt: 2024-04-16 20:21:41 -0400 (Tue, 16 Apr 2024) EllapsedTime: 1000.5 seconds RetCode: 0 Status: OK PackageFile: HPiP_1.8.0.tar.gz PackageFileSize: 4.572 MiB