Package: HPiP Version: 1.8.0 Maintainer: Matineh Rahmatbakhsh MaintainerEmail: matinerb.94 at gmail.com git_url: https://git.bioconductor.org/packages/HPiP git_branch: RELEASE_3_18 git_last_commit: 677208a git_last_commit_date: 2023-10-24 11:36:21 -0400 (Tue, 24 Oct 2023)