Package: HPAanalyze Version: 1.20.0 Command: /Library/Frameworks/R.framework/Resources/bin/R CMD INSTALL HPAanalyze StartedAt: 2024-04-16 12:38:39 -0400 (Tue, 16 Apr 2024) EndedAt: 2024-04-16 12:39:27 -0400 (Tue, 16 Apr 2024) EllapsedTime: 47.3 seconds RetCode: 0 Status: OK