Package: HIBAG Version: 1.38.2 Command: rm -rf HIBAG.buildbin-libdir && mkdir HIBAG.buildbin-libdir && /Users/biocbuild/BBS/utils/build-universal.sh HIBAG_1.38.2.tar.gz /Library/Frameworks/R.framework/Resources/bin/R HIBAG.buildbin-libdir StartedAt: 2024-04-18 09:39:25 -0400 (Thu, 18 Apr 2024) EndedAt: 2024-04-18 09:39:54 -0400 (Thu, 18 Apr 2024) EllapsedTime: 28.2 seconds RetCode: 0 Status: OK PackageFile: HIBAG_1.38.2.tgz PackageFileSize: 2.171 MiB