Package: HEM Version: 1.74.0 Command: /Library/Frameworks/R.framework/Resources/bin/R CMD check --install=check:HEM.install-out.txt --library=/Library/Frameworks/R.framework/Resources/library --no-vignettes --timings HEM_1.74.0.tar.gz StartedAt: 2024-04-17 16:10:38 -0400 (Wed, 17 Apr 2024) EndedAt: 2024-04-17 16:11:14 -0400 (Wed, 17 Apr 2024) EllapsedTime: 36.1 seconds RetCode: 0 Status: WARNINGS CheckDir: HEM.Rcheck Warnings: 1