Package: HEM Version: 1.74.0 Command: /Library/Frameworks/R.framework/Resources/bin/R CMD build --keep-empty-dirs --no-resave-data HEM StartedAt: 2024-04-16 19:52:24 -0400 (Tue, 16 Apr 2024) EndedAt: 2024-04-16 19:52:39 -0400 (Tue, 16 Apr 2024) EllapsedTime: 14.9 seconds RetCode: 0 Status: OK PackageFile: HEM_1.74.0.tar.gz PackageFileSize: 611.9 KiB