Package: HELP Version: 1.60.0 Command: /Library/Frameworks/R.framework/Resources/bin/R CMD check --install=check:HELP.install-out.txt --library=/Library/Frameworks/R.framework/Resources/library --no-vignettes --timings HELP_1.60.0.tar.gz StartedAt: 2024-04-17 16:09:55 -0400 (Wed, 17 Apr 2024) EndedAt: 2024-04-17 16:10:38 -0400 (Wed, 17 Apr 2024) EllapsedTime: 42.6 seconds RetCode: 0 Status: OK CheckDir: HELP.Rcheck Warnings: 0