Package: GraphAlignment Version: 1.66.0 Command: /Library/Frameworks/R.framework/Resources/bin/R CMD check --install=check:GraphAlignment.install-out.txt --library=/Library/Frameworks/R.framework/Resources/library --no-vignettes --timings GraphAlignment_1.66.0.tar.gz StartedAt: 2024-04-17 15:40:52 -0400 (Wed, 17 Apr 2024) EndedAt: 2024-04-17 15:41:16 -0400 (Wed, 17 Apr 2024) EllapsedTime: 23.7 seconds RetCode: 0 Status: OK CheckDir: GraphAlignment.Rcheck Warnings: 0