Package: GlobalAncova Version: 4.20.0 Command: /Library/Frameworks/R.framework/Resources/bin/R CMD INSTALL GlobalAncova StartedAt: 2024-04-16 12:07:12 -0400 (Tue, 16 Apr 2024) EndedAt: 2024-04-16 12:07:44 -0400 (Tue, 16 Apr 2024) EllapsedTime: 31.6 seconds RetCode: 0 Status: OK