Package: GloScope Version: 1.0.0 Command: /Library/Frameworks/R.framework/Resources/bin/R CMD check --install=check:GloScope.install-out.txt --library=/Library/Frameworks/R.framework/Resources/library --no-vignettes --timings GloScope_1.0.0.tar.gz StartedAt: 2024-04-17 15:20:11 -0400 (Wed, 17 Apr 2024) EndedAt: 2024-04-17 15:32:34 -0400 (Wed, 17 Apr 2024) EllapsedTime: 743.4 seconds RetCode: 0 Status: OK CheckDir: GloScope.Rcheck Warnings: 0