Package: Glimma Version: 2.12.0 Command: /Library/Frameworks/R.framework/Resources/bin/R CMD check --install=check:Glimma.install-out.txt --library=/Library/Frameworks/R.framework/Resources/library --no-vignettes --timings Glimma_2.12.0.tar.gz StartedAt: 2024-04-17 15:16:53 -0400 (Wed, 17 Apr 2024) EndedAt: 2024-04-17 15:23:05 -0400 (Wed, 17 Apr 2024) EllapsedTime: 372.0 seconds RetCode: 0 Status: OK CheckDir: Glimma.Rcheck Warnings: 0