Package: Glimma Version: 2.12.0 Command: /Library/Frameworks/R.framework/Resources/bin/R CMD build --keep-empty-dirs --no-resave-data Glimma StartedAt: 2024-04-16 19:02:35 -0400 (Tue, 16 Apr 2024) EndedAt: 2024-04-16 19:13:32 -0400 (Tue, 16 Apr 2024) EllapsedTime: 657.0 seconds RetCode: 0 Status: OK PackageFile: Glimma_2.12.0.tar.gz PackageFileSize: 11.35 MiB