Package: GenomicPlot Version: 1.0.8 Command: /Library/Frameworks/R.framework/Resources/bin/R CMD check --install=check:GenomicPlot.install-out.txt --library=/Library/Frameworks/R.framework/Resources/library --no-vignettes --timings GenomicPlot_1.0.8.tar.gz StartedAt: 2024-04-17 14:53:23 -0400 (Wed, 17 Apr 2024) EndedAt: 2024-04-17 15:05:05 -0400 (Wed, 17 Apr 2024) EllapsedTime: 702.1 seconds RetCode: 0 Status: OK CheckDir: GenomicPlot.Rcheck Warnings: 0