Package: GenomicInteractionNodes Version: 1.6.0 Command: /Library/Frameworks/R.framework/Resources/bin/R CMD check --install=check:GenomicInteractionNodes.install-out.txt --library=/Library/Frameworks/R.framework/Resources/library --no-vignettes --timings GenomicInteractionNodes_1.6.0.tar.gz StartedAt: 2024-04-17 14:48:22 -0400 (Wed, 17 Apr 2024) EndedAt: 2024-04-17 14:56:50 -0400 (Wed, 17 Apr 2024) EllapsedTime: 508.7 seconds RetCode: 0 Status: OK CheckDir: GenomicInteractionNodes.Rcheck Warnings: 0