Package: GenomicFiles Version: 1.38.0 Command: rm -rf GenomicFiles.buildbin-libdir && mkdir GenomicFiles.buildbin-libdir && /Users/biocbuild/BBS/utils/build-universal.sh GenomicFiles_1.38.0.tar.gz /Library/Frameworks/R.framework/Resources/bin/R GenomicFiles.buildbin-libdir StartedAt: 2024-04-18 09:27:04 -0400 (Thu, 18 Apr 2024) EndedAt: 2024-04-18 09:28:11 -0400 (Thu, 18 Apr 2024) EllapsedTime: 66.4 seconds RetCode: 0 Status: OK PackageFile: GenomicFiles_1.38.0.tgz PackageFileSize: 1 MiB