Package: GenomicFeatures Version: 1.54.4 Command: /Library/Frameworks/R.framework/Resources/bin/R CMD build --keep-empty-dirs --no-resave-data GenomicFeatures StartedAt: 2024-04-16 18:47:40 -0400 (Tue, 16 Apr 2024) EndedAt: 2024-04-16 18:49:24 -0400 (Tue, 16 Apr 2024) EllapsedTime: 103.9 seconds RetCode: 0 Status: OK PackageFile: GenomicFeatures_1.54.4.tar.gz PackageFileSize: 1.124 MiB