Package: GenomicDistributions Version: 1.10.0 Command: rm -rf GenomicDistributions.buildbin-libdir && mkdir GenomicDistributions.buildbin-libdir && /Users/biocbuild/BBS/utils/build-universal.sh GenomicDistributions_1.10.0.tar.gz /Library/Frameworks/R.framework/Resources/bin/R GenomicDistributions.buildbin-libdir StartedAt: 2024-04-18 09:26:45 -0400 (Thu, 18 Apr 2024) EndedAt: 2024-04-18 09:27:11 -0400 (Thu, 18 Apr 2024) EllapsedTime: 26.0 seconds RetCode: 0 Status: OK PackageFile: GenomicDistributions_1.10.0.tgz PackageFileSize: 5.731 MiB