Package: GenomicDataCommons Version: 1.26.0 Command: /Library/Frameworks/R.framework/Resources/bin/R CMD build --keep-empty-dirs --no-resave-data GenomicDataCommons StartedAt: 2024-04-16 18:47:06 -0400 (Tue, 16 Apr 2024) EndedAt: 2024-04-16 18:48:26 -0400 (Tue, 16 Apr 2024) EllapsedTime: 79.9 seconds RetCode: 0 Status: OK PackageFile: GenomicDataCommons_1.26.0.tar.gz PackageFileSize: 2.374 MiB