Package: GeneTonic Version: 2.6.0 Command: /Library/Frameworks/R.framework/Resources/bin/R CMD check --install=check:GeneTonic.install-out.txt --library=/Library/Frameworks/R.framework/Resources/library --no-vignettes --timings GeneTonic_2.6.0.tar.gz StartedAt: 2024-04-17 14:35:07 -0400 (Wed, 17 Apr 2024) EndedAt: 2024-04-17 14:45:38 -0400 (Wed, 17 Apr 2024) EllapsedTime: 631.0 seconds RetCode: 1 Status: ERROR CheckDir: GeneTonic.Rcheck Warnings: NA