Package: GeneTonic Version: 2.6.0 Command: rm -rf GeneTonic.buildbin-libdir && mkdir GeneTonic.buildbin-libdir && /Users/biocbuild/BBS/utils/build-universal.sh GeneTonic_2.6.0.tar.gz /Library/Frameworks/R.framework/Resources/bin/R GeneTonic.buildbin-libdir StartedAt: 2024-04-18 09:25:42 -0400 (Thu, 18 Apr 2024) EndedAt: 2024-04-18 09:26:40 -0400 (Thu, 18 Apr 2024) EllapsedTime: 58.2 seconds RetCode: 0 Status: OK PackageFile: GeneTonic_2.6.0.tgz PackageFileSize: 9.866 MiB