Package: GeneStructureTools Version: 1.22.0 Command: rm -rf GeneStructureTools.buildbin-libdir && mkdir GeneStructureTools.buildbin-libdir && /Users/biocbuild/BBS/utils/build-universal.sh GeneStructureTools_1.22.0.tar.gz /Library/Frameworks/R.framework/Resources/bin/R GeneStructureTools.buildbin-libdir StartedAt: 2024-04-18 09:25:28 -0400 (Thu, 18 Apr 2024) EndedAt: 2024-04-18 09:26:44 -0400 (Thu, 18 Apr 2024) EllapsedTime: 76.3 seconds RetCode: 0 Status: OK PackageFile: GeneStructureTools_1.22.0.tgz PackageFileSize: 2.351 MiB