Package: GeneExpressionSignature Version: 1.48.0 Maintainer: Yang Cao MaintainerEmail: yiluheihei at gmail.com git_url: https://git.bioconductor.org/packages/GeneExpressionSignature git_branch: RELEASE_3_18 git_last_commit: 7c09f09 git_last_commit_date: 2023-10-24 09:47:42 -0400 (Tue, 24 Oct 2023)