Package: GWENA Version: 1.12.0 Command: rm -rf GWENA.buildbin-libdir && mkdir GWENA.buildbin-libdir && /Users/biocbuild/BBS/utils/build-universal.sh GWENA_1.12.0.tar.gz /Library/Frameworks/R.framework/Resources/bin/R GWENA.buildbin-libdir StartedAt: 2024-04-18 09:37:57 -0400 (Thu, 18 Apr 2024) EndedAt: 2024-04-18 09:38:58 -0400 (Thu, 18 Apr 2024) EllapsedTime: 60.5 seconds RetCode: 0 Status: OK PackageFile: GWENA_1.12.0.tgz PackageFileSize: 4.667 MiB