Package: GWAS.BAYES Version: 1.12.0 Command: /Library/Frameworks/R.framework/Resources/bin/R CMD INSTALL GWAS.BAYES StartedAt: 2024-04-16 12:18:51 -0400 (Tue, 16 Apr 2024) EndedAt: 2024-04-16 12:18:58 -0400 (Tue, 16 Apr 2024) EllapsedTime: 6.9 seconds RetCode: 0 Status: OK