Package: GWAS.BAYES Version: 1.12.0 Command: /Library/Frameworks/R.framework/Resources/bin/R CMD check --install=check:GWAS.BAYES.install-out.txt --library=/Library/Frameworks/R.framework/Resources/library --no-vignettes --timings GWAS.BAYES_1.12.0.tar.gz StartedAt: 2024-04-17 15:56:36 -0400 (Wed, 17 Apr 2024) EndedAt: 2024-04-17 15:57:26 -0400 (Wed, 17 Apr 2024) EllapsedTime: 50.1 seconds RetCode: 0 Status: OK CheckDir: GWAS.BAYES.Rcheck Warnings: 0