Package: GSVA Version: 1.50.5 Command: /Library/Frameworks/R.framework/Resources/bin/R CMD build --keep-empty-dirs --no-resave-data GSVA StartedAt: 2024-04-16 19:39:16 -0400 (Tue, 16 Apr 2024) EndedAt: 2024-04-16 19:42:03 -0400 (Tue, 16 Apr 2024) EllapsedTime: 167.1 seconds RetCode: 0 Status: OK PackageFile: GSVA_1.50.5.tar.gz PackageFileSize: 2.232 MiB