Package: GSCA Version: 2.32.0 Command: /Library/Frameworks/R.framework/Resources/bin/R CMD build --keep-empty-dirs --no-resave-data GSCA StartedAt: 2024-04-16 19:34:03 -0400 (Tue, 16 Apr 2024) EndedAt: 2024-04-16 19:34:31 -0400 (Tue, 16 Apr 2024) EllapsedTime: 28.4 seconds RetCode: 0 Status: OK PackageFile: GSCA_2.32.0.tar.gz PackageFileSize: 2.288 MiB