Package: GRmetrics Version: 1.28.0 Command: /Library/Frameworks/R.framework/Resources/bin/R CMD INSTALL GRmetrics StartedAt: 2024-04-16 12:04:49 -0400 (Tue, 16 Apr 2024) EndedAt: 2024-04-16 12:05:15 -0400 (Tue, 16 Apr 2024) EllapsedTime: 26.3 seconds RetCode: 0 Status: OK