Package: GRmetrics Version: 1.28.0 Command: /Library/Frameworks/R.framework/Resources/bin/R CMD build --keep-empty-dirs --no-resave-data GRmetrics StartedAt: 2024-04-16 19:32:45 -0400 (Tue, 16 Apr 2024) EndedAt: 2024-04-16 19:33:41 -0400 (Tue, 16 Apr 2024) EllapsedTime: 56.0 seconds RetCode: 0 Status: OK PackageFile: GRmetrics_1.28.0.tar.gz PackageFileSize: 1.938 MiB