Package: GRmetrics Version: 1.28.0 Command: rm -rf GRmetrics.buildbin-libdir && mkdir GRmetrics.buildbin-libdir && /Users/biocbuild/BBS/utils/build-universal.sh GRmetrics_1.28.0.tar.gz /Library/Frameworks/R.framework/Resources/bin/R GRmetrics.buildbin-libdir StartedAt: 2024-04-18 09:35:22 -0400 (Thu, 18 Apr 2024) EndedAt: 2024-04-18 09:35:55 -0400 (Thu, 18 Apr 2024) EllapsedTime: 33.2 seconds RetCode: 0 Status: OK PackageFile: GRmetrics_1.28.0.tgz PackageFileSize: 2.004 MiB