Package: GRENITS Version: 1.54.0 Command: /Library/Frameworks/R.framework/Resources/bin/R CMD INSTALL GRENITS StartedAt: 2024-04-16 10:31:09 -0400 (Tue, 16 Apr 2024) EndedAt: 2024-04-16 10:32:34 -0400 (Tue, 16 Apr 2024) EllapsedTime: 85.4 seconds RetCode: 0 Status: OK