Package: GRENITS Version: 1.54.0 Command: /Library/Frameworks/R.framework/Resources/bin/R CMD check --install=check:GRENITS.install-out.txt --library=/Library/Frameworks/R.framework/Resources/library --no-vignettes --timings GRENITS_1.54.0.tar.gz StartedAt: 2024-04-17 15:42:33 -0400 (Wed, 17 Apr 2024) EndedAt: 2024-04-17 15:46:20 -0400 (Wed, 17 Apr 2024) EllapsedTime: 227.0 seconds RetCode: 0 Status: OK CheckDir: GRENITS.Rcheck Warnings: 0