Package: GRENITS Version: 1.54.0 Command: /Library/Frameworks/R.framework/Resources/bin/R CMD build --keep-empty-dirs --no-resave-data GRENITS StartedAt: 2024-04-16 19:32:02 -0400 (Tue, 16 Apr 2024) EndedAt: 2024-04-16 19:33:50 -0400 (Tue, 16 Apr 2024) EllapsedTime: 107.5 seconds RetCode: 0 Status: OK PackageFile: GRENITS_1.54.0.tar.gz PackageFileSize: 266.7 KiB