Package: GRENITS Version: 1.54.0 Command: rm -rf GRENITS.buildbin-libdir && mkdir GRENITS.buildbin-libdir && /Users/biocbuild/BBS/utils/build-universal.sh GRENITS_1.54.0.tar.gz /Library/Frameworks/R.framework/Resources/bin/R GRENITS.buildbin-libdir StartedAt: 2024-04-18 09:35:08 -0400 (Thu, 18 Apr 2024) EndedAt: 2024-04-18 09:36:57 -0400 (Thu, 18 Apr 2024) EllapsedTime: 109.6 seconds RetCode: 0 Status: OK PackageFile: GRENITS_1.54.0.tgz PackageFileSize: 528.4 KiB