Package: GPA Version: 1.14.0 Command: rm -rf GPA.buildbin-libdir && mkdir GPA.buildbin-libdir && /Users/biocbuild/BBS/utils/build-universal.sh GPA_1.14.0.tar.gz /Library/Frameworks/R.framework/Resources/bin/R GPA.buildbin-libdir StartedAt: 2024-04-18 09:34:18 -0400 (Thu, 18 Apr 2024) EndedAt: 2024-04-18 09:34:41 -0400 (Thu, 18 Apr 2024) EllapsedTime: 23.6 seconds RetCode: 0 Status: OK PackageFile: GPA_1.14.0.tgz PackageFileSize: 566.8 KiB