############################################################################## ############################################################################## ### ### Running command: ### ### /Library/Frameworks/R.framework/Resources/bin/R CMD check --install=check:GOsummaries.install-out.txt --library=/Library/Frameworks/R.framework/Resources/library --no-vignettes --timings GOsummaries_2.37.0.tar.gz ### ############################################################################## ############################################################################## /bin/sh: /Library/Frameworks/R.framework/Resources/bin/R: No such file or directory