Package: GOstats Version: 2.68.0 Command: /Library/Frameworks/R.framework/Resources/bin/R CMD check --install=check:GOstats.install-out.txt --library=/Library/Frameworks/R.framework/Resources/library --no-vignettes --timings GOstats_2.68.0.tar.gz StartedAt: 2024-04-17 15:34:36 -0400 (Wed, 17 Apr 2024) EndedAt: 2024-04-17 15:39:22 -0400 (Wed, 17 Apr 2024) EllapsedTime: 286.5 seconds RetCode: 0 Status: OK CheckDir: GOstats.Rcheck Warnings: 0