Package: GOfuncR Version: 1.22.2 Command: /Library/Frameworks/R.framework/Resources/bin/R CMD build --keep-empty-dirs --no-resave-data GOfuncR StartedAt: 2024-04-16 19:18:23 -0400 (Tue, 16 Apr 2024) EndedAt: 2024-04-16 19:24:03 -0400 (Tue, 16 Apr 2024) EllapsedTime: 339.7 seconds RetCode: 0 Status: OK PackageFile: GOfuncR_1.22.2.tar.gz PackageFileSize: 5.216 MiB