Package: GNOSIS Version: 1.0.0 Command: /Library/Frameworks/R.framework/Resources/bin/R CMD build --keep-empty-dirs --no-resave-data GNOSIS StartedAt: 2024-04-16 19:16:41 -0400 (Tue, 16 Apr 2024) EndedAt: 2024-04-16 19:18:23 -0400 (Tue, 16 Apr 2024) EllapsedTime: 101.9 seconds RetCode: 0 Status: OK PackageFile: GNOSIS_1.0.0.tar.gz PackageFileSize: 3.374 MiB