Package: GNOSIS Version: 1.0.0 Command: rm -rf GNOSIS.buildbin-libdir && mkdir GNOSIS.buildbin-libdir && /Users/biocbuild/BBS/utils/build-universal.sh GNOSIS_1.0.0.tar.gz /Library/Frameworks/R.framework/Resources/bin/R GNOSIS.buildbin-libdir StartedAt: 2024-04-18 09:32:26 -0400 (Thu, 18 Apr 2024) EndedAt: 2024-04-18 09:33:55 -0400 (Thu, 18 Apr 2024) EllapsedTime: 88.9 seconds RetCode: 0 Status: OK PackageFile: GNOSIS_1.0.0.tgz PackageFileSize: 2.531 MiB