Package: GEOsubmission Version: 1.54.0 Command: /Library/Frameworks/R.framework/Resources/bin/R CMD check --install=check:GEOsubmission.install-out.txt --library=/Library/Frameworks/R.framework/Resources/library --no-vignettes --timings GEOsubmission_1.54.0.tar.gz StartedAt: 2024-04-17 15:03:01 -0400 (Wed, 17 Apr 2024) EndedAt: 2024-04-17 15:03:33 -0400 (Wed, 17 Apr 2024) EllapsedTime: 31.4 seconds RetCode: 0 Status: OK CheckDir: GEOsubmission.Rcheck Warnings: 0