Package: GEOmetadb Version: 1.64.0 Command: /Library/Frameworks/R.framework/Resources/bin/R CMD INSTALL GEOmetadb StartedAt: 2024-04-16 10:35:28 -0400 (Tue, 16 Apr 2024) EndedAt: 2024-04-16 10:35:36 -0400 (Tue, 16 Apr 2024) EllapsedTime: 8.5 seconds RetCode: 0 Status: OK