Package: GA4GHshiny Version: 1.24.0 Command: /Library/Frameworks/R.framework/Resources/bin/R CMD check --install=check:GA4GHshiny.install-out.txt --library=/Library/Frameworks/R.framework/Resources/library --no-vignettes --timings GA4GHshiny_1.24.0.tar.gz StartedAt: 2024-04-17 14:10:02 -0400 (Wed, 17 Apr 2024) EndedAt: 2024-04-17 14:15:49 -0400 (Wed, 17 Apr 2024) EllapsedTime: 347.3 seconds RetCode: 0 Status: OK CheckDir: GA4GHshiny.Rcheck Warnings: 0