Package: GA4GHshiny Version: 1.24.0 Command: rm -rf GA4GHshiny.buildbin-libdir && mkdir GA4GHshiny.buildbin-libdir && /Users/biocbuild/BBS/utils/build-universal.sh GA4GHshiny_1.24.0.tar.gz /Library/Frameworks/R.framework/Resources/bin/R GA4GHshiny.buildbin-libdir StartedAt: 2024-04-18 09:21:51 -0400 (Thu, 18 Apr 2024) EndedAt: 2024-04-18 09:22:56 -0400 (Thu, 18 Apr 2024) EllapsedTime: 65.0 seconds RetCode: 0 Status: OK PackageFile: GA4GHshiny_1.24.0.tgz PackageFileSize: 475.7 KiB