Package: FunChIP Version: 1.28.0 Command: /Library/Frameworks/R.framework/Resources/bin/R CMD build --keep-empty-dirs --no-resave-data FunChIP StartedAt: 2024-04-16 18:24:26 -0400 (Tue, 16 Apr 2024) EndedAt: 2024-04-16 18:29:11 -0400 (Tue, 16 Apr 2024) EllapsedTime: 285.1 seconds RetCode: 0 Status: OK PackageFile: FunChIP_1.28.0.tar.gz PackageFileSize: 23.01 MiB